BEGIN:VCALENDAR
VERSION:2.0
PRODID:-//South Sask Victory Church - ECPv6.15.20//NONSGML v1.0//EN
CALSCALE:GREGORIAN
METHOD:PUBLISH
X-ORIGINAL-URL:https://southsaskvictorychurch.ca
X-WR-CALDESC:Events for South Sask Victory Church
REFRESH-INTERVAL;VALUE=DURATION:PT1H
X-Robots-Tag:noindex
X-PUBLISHED-TTL:PT1H
BEGIN:VTIMEZONE
TZID:UTC
BEGIN:STANDARD
TZOFFSETFROM:+0000
TZOFFSETTO:+0000
TZNAME:UTC
DTSTART:20250101T000000
END:STANDARD
END:VTIMEZONE
BEGIN:VEVENT
DTSTART;TZID=UTC:20260426T103000
DTEND;TZID=UTC:20260426T120000
DTSTAMP:20260423T165044
CREATED:20210812T193538Z
LAST-MODIFIED:20260406T034106Z
UID:884-1777199400-1777204800@southsaskvictorychurch.ca
SUMMARY:Mike Grier
DESCRIPTION:Sunday Service Speaker
URL:https://southsaskvictorychurch.ca/coming-event/tba/
LOCATION:South Sask Victory Church\, 400 Benson Ave\, Pangman\, SK\, S0C 2C0\, Canada
END:VEVENT
END:VCALENDAR