BEGIN:VCALENDAR
VERSION:2.0
PRODID:-//South Sask Victory Church - ECPv6.15.20//NONSGML v1.0//EN
CALSCALE:GREGORIAN
METHOD:PUBLISH
X-WR-CALNAME:South Sask Victory Church
X-ORIGINAL-URL:https://southsaskvictorychurch.ca
X-WR-CALDESC:Events for South Sask Victory Church
REFRESH-INTERVAL;VALUE=DURATION:PT1H
X-Robots-Tag:noindex
X-PUBLISHED-TTL:PT1H
BEGIN:VTIMEZONE
TZID:UTC
BEGIN:STANDARD
TZOFFSETFROM:+0000
TZOFFSETTO:+0000
TZNAME:UTC
DTSTART:20250101T000000
END:STANDARD
END:VTIMEZONE
BEGIN:VEVENT
DTSTART;TZID=UTC:20260503T103000
DTEND;TZID=UTC:20260503T120000
DTSTAMP:20260423T195004
CREATED:20201105T183115Z
LAST-MODIFIED:20260406T034258Z
UID:684-1777804200-1777809600@southsaskvictorychurch.ca
SUMMARY:Tristan McCracken
DESCRIPTION:Sunday Service Speaker
URL:https://southsaskvictorychurch.ca/coming-event/tristan-mccracken-5/
LOCATION:South Sask Victory Church\, 400 Benson Ave\, Pangman\, SK\, S0C 2C0\, Canada
END:VEVENT
BEGIN:VEVENT
DTSTART;TZID=UTC:20260503T160000
DTEND;TZID=UTC:20260503T170000
DTSTAMP:20260423T195004
CREATED:20260419T205851Z
LAST-MODIFIED:20260419T205851Z
UID:1631-1777824000-1777827600@southsaskvictorychurch.ca
SUMMARY:Youth Bible Study
DESCRIPTION:For youth only
URL:https://southsaskvictorychurch.ca/coming-event/youth-bible-study/
END:VEVENT
BEGIN:VEVENT
DTSTART;TZID=UTC:20260510T103000
DTEND;TZID=UTC:20260510T120000
DTSTAMP:20260423T195004
CREATED:20200926T041909Z
LAST-MODIFIED:20260419T205621Z
UID:650-1778409000-1778414400@southsaskvictorychurch.ca
SUMMARY:Mike Grier
DESCRIPTION:Sunday Service Speaker
URL:https://southsaskvictorychurch.ca/coming-event/mike-grier-2/
LOCATION:South Sask Victory Church\, 400 Benson Ave\, Pangman\, SK\, S0C 2C0\, Canada
CATEGORIES:Sunday Services
END:VEVENT
BEGIN:VEVENT
DTSTART;TZID=UTC:20260510T160000
DTEND;TZID=UTC:20260510T170000
DTSTAMP:20260423T195004
CREATED:20260419T205938Z
LAST-MODIFIED:20260419T205938Z
UID:1633-1778428800-1778432400@southsaskvictorychurch.ca
SUMMARY:Youth Bible Study
DESCRIPTION:For youth only
URL:https://southsaskvictorychurch.ca/coming-event/youth-bible-study-2/
END:VEVENT
BEGIN:VEVENT
DTSTART;TZID=UTC:20260515T190000
DTEND;TZID=UTC:20260515T210000
DTSTAMP:20260423T195004
CREATED:20200808T212658Z
LAST-MODIFIED:20260419T205721Z
UID:611-1778871600-1778878800@southsaskvictorychurch.ca
SUMMARY:Youth Group
DESCRIPTION:
URL:https://southsaskvictorychurch.ca/coming-event/youth-group-3/
LOCATION:Ogema Youth Centre\, Saskatchewan Ave. at Taylor St.\, Ogema\, Saskatchewan\, S0C 1Y0\, Canada
END:VEVENT
BEGIN:VEVENT
DTSTART;TZID=UTC:20260517T163000
DTEND;TZID=UTC:20260517T180000
DTSTAMP:20260423T195004
CREATED:20230528T212724Z
LAST-MODIFIED:20260419T205441Z
UID:1213-1779035400-1779040800@southsaskvictorychurch.ca
SUMMARY:Dave Boisclair
DESCRIPTION:Sunday Service Speaker \nPotluck to follow
URL:https://southsaskvictorychurch.ca/coming-event/pastor-morris-watson/
LOCATION:South Sask Victory Church\, 400 Benson Ave\, Pangman\, SK\, S0C 2C0\, Canada
END:VEVENT
BEGIN:VEVENT
DTSTART;TZID=UTC:20260524T103000
DTEND;TZID=UTC:20260524T120000
DTSTAMP:20260423T195004
CREATED:20250609T221639Z
LAST-MODIFIED:20260419T205320Z
UID:1506-1779618600-1779624000@southsaskvictorychurch.ca
SUMMARY:Testimony Sharing
DESCRIPTION:
URL:https://southsaskvictorychurch.ca/coming-event/testimony-sharing/
LOCATION:South Sask Victory Church\, 400 Benson Ave\, Pangman\, SK\, S0C 2C0\, Canada
END:VEVENT
BEGIN:VEVENT
DTSTART;TZID=UTC:20260531T103000
DTEND;TZID=UTC:20260531T120000
DTSTAMP:20260423T195004
CREATED:20201105T183022Z
LAST-MODIFIED:20260419T205404Z
UID:682-1780223400-1780228800@southsaskvictorychurch.ca
SUMMARY:David Willis
DESCRIPTION:Sunday Service Speaker
URL:https://southsaskvictorychurch.ca/coming-event/david-willis-3/
LOCATION:South Sask Victory Church\, 400 Benson Ave\, Pangman\, SK\, S0C 2C0\, Canada
END:VEVENT
BEGIN:VEVENT
DTSTART;TZID=UTC:20260607T103000
DTEND;TZID=UTC:20260607T120000
DTSTAMP:20260423T195004
CREATED:20200926T042032Z
LAST-MODIFIED:20260419T205537Z
UID:654-1780828200-1780833600@southsaskvictorychurch.ca
SUMMARY:Tristan McCracken
DESCRIPTION:Sunday Service Speaker
URL:https://southsaskvictorychurch.ca/coming-event/tristan-mccracken-4/
LOCATION:South Sask Victory Church\, 400 Benson Ave\, Pangman\, SK\, S0C 2C0\, Canada
CATEGORIES:Sunday Services
END:VEVENT
END:VCALENDAR