BEGIN:VCALENDAR
VERSION:2.0
PRODID:-//South Sask Victory Church - ECPv6.15.20//NONSGML v1.0//EN
CALSCALE:GREGORIAN
METHOD:PUBLISH
X-WR-CALNAME:South Sask Victory Church
X-ORIGINAL-URL:https://southsaskvictorychurch.ca
X-WR-CALDESC:Events for South Sask Victory Church
REFRESH-INTERVAL;VALUE=DURATION:PT1H
X-Robots-Tag:noindex
X-PUBLISHED-TTL:PT1H
BEGIN:VTIMEZONE
TZID:UTC
BEGIN:STANDARD
TZOFFSETFROM:+0000
TZOFFSETTO:+0000
TZNAME:UTC
DTSTART:20200101T000000
END:STANDARD
END:VTIMEZONE
BEGIN:VEVENT
DTSTART;TZID=UTC:20250921T190000
DTEND;TZID=UTC:20250921T210000
DTSTAMP:20260424T001158
CREATED:20211123T153814Z
LAST-MODIFIED:20250810T200814Z
UID:937-1758481200-1758488400@southsaskvictorychurch.ca
SUMMARY:Praise & Prayer Night with River House of Prayer
DESCRIPTION:
URL:https://southsaskvictorychurch.ca/coming-event/no-service/
LOCATION:South Sask Victory Church\, 400 Benson Ave\, Pangman\, SK\, S0C 2C0\, Canada
END:VEVENT
BEGIN:VEVENT
DTSTART;TZID=UTC:20250817T163000
DTEND;TZID=UTC:20250817T180000
DTSTAMP:20260424T001158
CREATED:20211229T213828Z
LAST-MODIFIED:20250716T050255Z
UID:962-1755448200-1755453600@southsaskvictorychurch.ca
SUMMARY:Anita Pearce
DESCRIPTION:Sunday Service
URL:https://southsaskvictorychurch.ca/coming-event/anita-pearce-book-study-4/
LOCATION:South Sask Victory Church\, 400 Benson Ave\, Pangman\, SK\, S0C 2C0\, Canada
END:VEVENT
BEGIN:VEVENT
DTSTART;TZID=UTC:20250803T103000
DTEND;TZID=UTC:20250803T120000
DTSTAMP:20260424T001158
CREATED:20201025T033646Z
LAST-MODIFIED:20250716T050150Z
UID:668-1754217000-1754222400@southsaskvictorychurch.ca
SUMMARY:John Murray
DESCRIPTION:Sunday Service Speaker
URL:https://southsaskvictorychurch.ca/coming-event/john-murray-3/
LOCATION:South Sask Victory Church\, 400 Benson Ave\, Pangman\, SK\, S0C 2C0\, Canada
END:VEVENT
BEGIN:VEVENT
DTSTART;TZID=UTC:20250418T190000
DTEND;TZID=UTC:20250418T200000
DTSTAMP:20260424T001158
CREATED:20250406T201342Z
LAST-MODIFIED:20250406T201342Z
UID:1483-1745002800-1745006400@southsaskvictorychurch.ca
SUMMARY:Good Friday Service
DESCRIPTION:
URL:https://southsaskvictorychurch.ca/coming-event/good-friday-service/
LOCATION:South Sask Victory Church\, 400 Benson Ave\, Pangman\, SK\, S0C 2C0\, Canada
END:VEVENT
BEGIN:VEVENT
DTSTART;TZID=UTC:20250323T103000
DTEND;TZID=UTC:20250323T120000
DTSTAMP:20260424T001158
CREATED:20211026T155935Z
LAST-MODIFIED:20250222T173951Z
UID:917-1742725800-1742731200@southsaskvictorychurch.ca
SUMMARY:Mike Grier
DESCRIPTION:Sunday Service Speaker
URL:https://southsaskvictorychurch.ca/coming-event/tristan-mccracken/
LOCATION:South Sask Victory Church\, 400 Benson Ave\, Pangman\, SK\, S0C 2C0\, Canada
END:VEVENT
BEGIN:VEVENT
DTSTART;TZID=UTC:20250119T163000
DTEND;TZID=UTC:20250119T180000
DTSTAMP:20260424T001158
CREATED:20230226T222439Z
LAST-MODIFIED:20241230T065852Z
UID:1160-1737304200-1737309600@southsaskvictorychurch.ca
SUMMARY:Patrick Braun
DESCRIPTION:Sunday Service Speaker
URL:https://southsaskvictorychurch.ca/coming-event/brook-andres/
LOCATION:South Sask Victory Church\, 400 Benson Ave\, Pangman\, SK\, S0C 2C0\, Canada
END:VEVENT
BEGIN:VEVENT
DTSTART;TZID=UTC:20241213T190000
DTEND;TZID=UTC:20241213T220000
DTSTAMP:20260424T001158
CREATED:20200714T013730Z
LAST-MODIFIED:20241208T135519Z
UID:583-1734116400-1734127200@southsaskvictorychurch.ca
SUMMARY:Youth Group - Christmas Party
DESCRIPTION:
URL:https://southsaskvictorychurch.ca/coming-event/youth-group-2/
LOCATION:Ogema Youth Centre\, Saskatchewan Ave. at Taylor St.\, Ogema\, Saskatchewan\, S0C 1Y0\, Canada
END:VEVENT
BEGIN:VEVENT
DTSTART;TZID=UTC:20230212T103000
DTEND;TZID=UTC:20230212T120000
DTSTAMP:20260424T001158
CREATED:20210418T215622Z
LAST-MODIFIED:20230113T035508Z
UID:765-1676197800-1676203200@southsaskvictorychurch.ca
SUMMARY:Joe Felix
DESCRIPTION:Sunday Service Speaker
URL:https://southsaskvictorychurch.ca/coming-event/regina-victory-church/
LOCATION:South Sask Victory Church\, 400 Benson Ave\, Pangman\, SK\, S0C 2C0\, Canada
END:VEVENT
BEGIN:VEVENT
DTSTART;TZID=UTC:20221014T193000
DTEND;TZID=UTC:20221014T203000
DTSTAMP:20260424T001158
CREATED:20220107T174904Z
LAST-MODIFIED:20220926T025355Z
UID:972-1665775800-1665779400@southsaskvictorychurch.ca
SUMMARY:Ogema Worship Night
DESCRIPTION:
URL:https://southsaskvictorychurch.ca/coming-event/ogema-worship-night/
LOCATION:Ogema Youth Centre\, Saskatchewan Ave. at Taylor St.\, Ogema\, Saskatchewan\, S0C 1Y0\, Canada
END:VEVENT
BEGIN:VEVENT
DTSTART;TZID=UTC:20210808T103000
DTEND;TZID=UTC:20210808T120000
DTSTAMP:20260424T001158
CREATED:20200622T204919Z
LAST-MODIFIED:20210730T173655Z
UID:514-1628418600-1628424000@southsaskvictorychurch.ca
SUMMARY:Terry and Terri Murphy
DESCRIPTION:Sunday Service Speakers
URL:https://southsaskvictorychurch.ca/coming-event/terry-and-terri-murphy/
LOCATION:South Sask Victory Church\, 400 Benson Ave\, Pangman\, SK\, S0C 2C0\, Canada
END:VEVENT
END:VCALENDAR